BEGIN:VCALENDAR
VERSION:2.0
PRODID:-//Waterdown Lions Club - ECPv6.15.20//NONSGML v1.0//EN
CALSCALE:GREGORIAN
METHOD:PUBLISH
X-ORIGINAL-URL:https://waterdownlions.ca
X-WR-CALDESC:Events for Waterdown Lions Club
REFRESH-INTERVAL;VALUE=DURATION:PT1H
X-Robots-Tag:noindex
X-PUBLISHED-TTL:PT1H
BEGIN:VTIMEZONE
TZID:UTC
BEGIN:STANDARD
TZOFFSETFROM:+0000
TZOFFSETTO:+0000
TZNAME:UTC
DTSTART:20240101T000000
END:STANDARD
END:VTIMEZONE
BEGIN:VEVENT
DTSTART;TZID=UTC:20250525T110000
DTEND;TZID=UTC:20250525T130000
DTSTAMP:20260422T191334
CREATED:20250502T000858Z
LAST-MODIFIED:20250502T000858Z
UID:671-1748170800-1748178000@waterdownlions.ca
SUMMARY:Pet Value Walk For Dog Guides
DESCRIPTION:This May\, help me “walk across Canada” to give more Canadians a new leash on life!\nFrom guiding their handlers through their daily lives to getting help when it’s needed most\, Dog Guides play a crucial role in the lives of Canadians with disabilities. By supporting me with a donation to the Pet Valu Walk for Dog Guides\, you are enabling Lions Foundation to fulfill their mission to empower Canadians with disabilities to navigate their world with confidence and independence by providing Dog Guides at no cost to them and supporting each pair in their journey together. \nPlease donate now and support me in my challenge!
URL:https://waterdownlions.ca/event/pet-value-walk-for-dog-guides/
LOCATION:Joe Sam’s Park\, 752 Centre Rd\, Waterdown\, ON\, Canada
END:VEVENT
END:VCALENDAR