BEGIN:VCALENDAR
VERSION:2.0
PRODID:-//Waterdown Lions Club - ECPv6.15.20//NONSGML v1.0//EN
CALSCALE:GREGORIAN
METHOD:PUBLISH
X-ORIGINAL-URL:https://waterdownlions.ca
X-WR-CALDESC:Events for Waterdown Lions Club
REFRESH-INTERVAL;VALUE=DURATION:PT1H
X-Robots-Tag:noindex
X-PUBLISHED-TTL:PT1H
BEGIN:VTIMEZONE
TZID:UTC
BEGIN:STANDARD
TZOFFSETFROM:+0000
TZOFFSETTO:+0000
TZNAME:UTC
DTSTART:20240101T000000
END:STANDARD
END:VTIMEZONE
BEGIN:VEVENT
DTSTART;TZID=UTC:20251128T160000
DTEND;TZID=UTC:20251128T200000
DTSTAMP:20260420T103341
CREATED:20251022T214838Z
LAST-MODIFIED:20251022T214838Z
UID:816-1764345600-1764360000@waterdownlions.ca
SUMMARY:Winterdown Lights 2025
DESCRIPTION:
URL:https://waterdownlions.ca/event/winterdown-lights-2025/
LOCATION:ON
END:VEVENT
BEGIN:VEVENT
DTSTART;TZID=UTC:20251128T183000
DTEND;TZID=UTC:20251128T210000
DTSTAMP:20260420T103341
CREATED:20251022T214852Z
LAST-MODIFIED:20251022T214852Z
UID:820-1764354600-1764363600@waterdownlions.ca
SUMMARY:St George Lions Turkey Raffle
DESCRIPTION:
URL:https://waterdownlions.ca/event/st-george-lions-turkey-raffle/
LOCATION:ON
END:VEVENT
END:VCALENDAR