BEGIN:VCALENDAR
VERSION:2.0
PRODID:-//Waterdown Lions Club - ECPv6.15.20//NONSGML v1.0//EN
CALSCALE:GREGORIAN
METHOD:PUBLISH
X-WR-CALNAME:Waterdown Lions Club
X-ORIGINAL-URL:https://waterdownlions.ca
X-WR-CALDESC:Events for Waterdown Lions Club
REFRESH-INTERVAL;VALUE=DURATION:PT1H
X-Robots-Tag:noindex
X-PUBLISHED-TTL:PT1H
BEGIN:VTIMEZONE
TZID:UTC
BEGIN:STANDARD
TZOFFSETFROM:+0000
TZOFFSETTO:+0000
TZNAME:UTC
DTSTART:20240101T000000
END:STANDARD
END:VTIMEZONE
BEGIN:VEVENT
DTSTART;TZID=UTC:20251115T120000
DTEND;TZID=UTC:20251115T170000
DTSTAMP:20260421T083854
CREATED:20250918T153603Z
LAST-MODIFIED:20250918T153603Z
UID:745-1763208000-1763226000@waterdownlions.ca
SUMMARY:Community Tap Day
DESCRIPTION:Visit select locations in Waterdown where members of the service clubs will be on hand to collect your donations for the Flamborough Santa Claus Parade.  \nWaterdown Lions will be at No Frills. \nRotary Club of Waterdown will be at Canadian Tire. \nCarlisle Optimist Club will be at Fortinos.
URL:https://waterdownlions.ca/event/community-tap-day/
LOCATION:ON
END:VEVENT
END:VCALENDAR